Workbook

Sheet ①自主点検表
A1: 事前提出資料① 自主点検表【指定（介護予防）認知症対応型共同生活介護】
A3: ○自主点検表について この自主点検表は、指定地域密着型介護サービス事業者及び指定地域密着型介護予防サービス事業者が、そのサービスの提供に当たり、介護保険法及び関係法令等の内容が遵守されているか点検するための様式です。 運営指導の有無に関わらず、この様式を使用して積極的な自主点検をお願いします。
A6: ○作成方法 管理者（施設長）が中心となり、点検事項をよく確認しながら、担当する従業者と検討の上、次のとおり作成してください。 ・評価…『Ａ：できている Ｂ：一部できている Ｃ：できていない ＝：事例なし又は非該当』を入力欄（セル）のプルダウンメニューから選択してください。 ・点検事項…記入が必要な欄について、必要事項を記入又は入力欄（セル）のプルダウンメニューから選択してください。また、「(選)」と書かれている欄については『○：適切、該当等 ×：不適切、非該当等 ＝：事例なし』を入力欄（セル）のプルダウンメニューから選択してください。 市による事業者への運営指導が行われるときは、直近の内容により作成し、運営指導実施日の２週間前までに他の資料と共に監査指導課へ提出して下さい。なお、この場合、必ず自主点検表の控えを保管してください。 点検記録の保管の観点からデータでの作成を推奨します。手書きで作成する場合には、上記の作成方法のとおり記入又は選択してください。
A14: ○凡例（根拠法令等） 法 ……………… 介護保険法（H9.12.17法律第123号） 施行規則 ……… 介護保険法施行規則（H11.3.31厚生省令第36号） 条例 …………… 太田市指定地域密着型サービスの事業の人員、設備及び運営に関する基準を定める条例 （H25.3.21条例第9号） 予防条例 ……… 太田市指定地域密着型介護予防サービスの事業の人員、設備及び運営並びに指定地域密着型介護予防 サービスに係る介護予防のための効果的な支援の方法に関する基準を定める条例（H25.3.21条例第10号） 規則 …………… 太田市指定地域密着型サービス事業所、指定地域密着型介護予防サービス事業所及び指定居宅介護 支援事業所の指定等に関する規則（H18.3.29規則第15号） 解釈通知 ……… 指定地域密着型サービス及び指定地域密着型介護予防サービスに関する基準について （H18.3.31老計発第0331004号・老振発第0331004号・老老発第0331017号） 報酬告示 ……… 指定地域密着型サービスに要する費用の額の算定に関する基準（H18.3.14厚生労働省告示第126号） 予防報酬告示 … 指定地域密着型介護予防サービスに要する費用の額の算定に関する基準 （H18.3.14厚生労働省告示第128号） 留意事項 ……… 指定地域密着型サービスに要する費用の額の算定に関する基準及び指定地域密着型介護予防サービス に要する費用の額の算定に関する基準の制定に伴う実施上の留意事項について （H18.3.31老計発0331005・老振発0331005・老老発0331018）
A27: 事業者名：
A28: 作成者：
A29: 作成日： | D29: 令和 | H29: 年 | L29: 月 | P29: 日
A31: 第１ 基本方針
A32: 点 検 事 項 | AF32: 評価 | AG32: 根 拠 法 令 等
A33: 要介護者 | F33: 要介護者であって認知症であるものについて、共同生活住居において、家庭的な環境と地域住民との交流の下で入浴、排せつ、食事等の介護その他の日常生活上の世話及び機能訓練を行うことにより、利用者がその有する能力に応じ自立した日常生活を営むことができるようにするものとなっているか。 | AG33: 条例第109条
AG34: 解釈通知第三・五1
A37: 要支援者 （要支援２のみ） | F37: 認知症である利用者が可能な限り共同生活住居において、家庭的な環境と地域住民との交流の下で入浴、排せつ、食事等の介護その他の日常生活上の支援及び機能訓練を行うことにより、利用者の心身機能の維持回復を図り、もって利用者の生活機能の維持又は向上を目指すものとなっているか。 | AG37: 予防条例第70条
AG38: 解釈通知第四・三3(1)
A42: 第２ 人員基準
A43: 点 検 事 項 | AF43: 評価 | AG43: 根 拠 法 令 等
A44: １．従業者の員数等 | F44: (1) 当該事業所を構成する共同生活住居ごとに、夜間及び深夜の時間帯以外の時間帯に指定（介護予防）認知症対応型共同生活介護の提供に当たる介護従業者を、常勤換算方法で、当該共同生活住居の利用者の数が３又はその端数を増すごとに１以上とするほか、夜間及び深夜の時間帯を通じて１以上の介護従業者に夜間及び深夜の勤務（宿直勤務を除く。）を行わせるために必要な数以上としているか。 ただし、当該事業所の有する共同生活住居の数が３である場合において、当該共同生活住居が全て同一の階において隣接し、介護従事者が円滑な利用者の状況把握及び速やかな対応を行うことが可能な構造である場合であって、事業者による安全対策が講じられ、利用者の安全性が確保されていると認められるときは、夜間及び深夜の時間帯に事業所ごとに置くべき介護従事者は、夜間及び深夜の時間帯を通じて２以上の介護従業者に夜間及び深夜の勤務を行わせるために必要な数以上とすることができる。 利用者の数は、前年度の平均値とする。ただし、新規に指定を受ける場合は、推定数による。 | AG44: 条例第110条第1項及び第2項
AG45: 予防条例第71条第1項及び第2項
AG46: 解釈通知第三・五2(1)②イ
G59: 小数点第２位以下を切り上げ、小数点第１位まで記入してください。
G60: 前年度利用者平均数
M61: 人
F63: (2) 介護従業者のうち１人以上の者は、常勤となっているか。 | AG63: 条例第110条第3項
AG64: 予防条例第71条第3項
F65: (3) 事業所ごとに、保健医療サービス又は福祉サービスの利用に係る計画の作成に関し知識及び経験を有する者であって（介護予防）認知症対応型共同生活介護計画の作成を担当させるのに適当と認められるものを専らその職務に従事する計画作成担当者としているか。ただし、利用者の処遇に支障がない場合は、当該事業所における他の職務に従事（管理者との兼務を含む）することができる。 （以下の「計画作成担当者の情報」に詳細を記入。以下(6)まで同じ。） | AG65: 条例第110条第5項
AG66: 予防条例第71条第5項
AG67: 解釈通知第三・五2(1)③イ及びチ
F72: (4) (3)の計画作成担当者は、別に厚生労働大臣が定める研修（都道府県、指定都市及び中核市が実施する「実践者研修」又は「基礎課程」）を修了している者か。 | AG72: 条例第110条第6項
AG73: 予防条例第71条第6項
AG74: 解釈通知第三・五2(1)③ヘ
F75: (5) 計画作成担当者は、(4)において必要とされる研修に加え、更に専門性を高めるための研修を受講するよう努めているか。 | AG75: 解釈通知第三・五2(1)③ト
F78: (6) (3)の計画作成担当者のうち１以上の者は、介護支援専門員をもって充てているか。また、その者は、介護支援専門員でない他の計画作成担当者の業務を監督するものとしているか。 ただし、併設する指定（介護予防）小規模多機能型居宅介護事業所又は指定看護小規模多機能型居宅介護事業所の介護支援専門員との連携を図ることにより当該事業所の効果的な運営を期待することができる場合であって、利用者の処遇に支障がないときは、介護支援専門員を置かないことができる。（計画作成担当者の配置は必要） ただし、サテライト事業所については、介護支援専門員である計画作成担当者に代えて、(4)の研修を修了している者を置くことができる。 | AG78: 条例第110条第7項、第8項、第9項
AG79: 予防条例第71条第7項及び第8項
AG80: 解釈通知第三・五2(1)③ニ及びホ
F87: 計画作成担当者を1人配置する事業所にあっては、当該計画作成担当者は介護支援専門員をもって充てなければならない。 計画作成担当者を1を超えて配置する事業所にあっては、計画作成担当者のうち少なくとも１人は介護支援専門員をもって充てなければならない。 | AG87: 解釈通知第三・五2(1)③ロ
AG89: 解釈通知第三・五2(1)③ハ
F92: 介護支援専門員でない計画作成担当者は、特別養護老人ホームの生活相談員や介護老人保健施設の支援相談員その他の認知症である者の介護サービスに係る計画の作成に関し実務経験を有すると認められる者をもって充てることができるものとする。 | AG92: 条例第110条第10項
AG93: 予防条例第71条第9項
G96: ■計画作成担当者の情報（複数名の場合は、全員分を記入してください）
G97: 氏名 | M97: 研修種別 | R97: 修了年月日 | W97: 専門員証の有効期間
AC98: まで
...

Sheet ②加算等自己点検シート
A1: 事前提出書類② 各種加算等自己点検シート【 指定（介護予防）認知症対応型共同生活介護費】
A3: 点検項目 | B3: 算定有 | C3: 点検事項 | AB3: 点検結果 | AD3: 根拠法令等
A4: （介護予防）短期利用認知症対応型共同生活介護費 | B4: □ | C4: 事業を行う者が、指定居宅サービス、指定地域密着型サービス、指定居宅介護支援、指定介護予防サービス、指定地域密着型介護予防サービス若しくは指定介護予防支援の事業又は介護保険施設若しくは指定介護療養型医療施設の運営について３年以上の経験を有する | AB4: □ | AC4: 該当 | AD4: ・報酬告示 別表５ロ ・予防報酬告示 別表３ロ ・留意事項 第二６(１)
C5: 事業所の共同生活住居の定員の範囲内で、空いている居室等を利用（ただし、共同生活住居ごとに利用定員は１名） ※ 緊急の場合を除く | AB5: □ | AC5: 該当
C6: あらかじめ30日以内の利用期間を定めている ※ 緊急の場合は７日を限度 | AB6: □ | AC6: 該当
C7: 十分な知識を有する従業者の確保（認知症介護実務者研修のうち「専門課程」、認知症介護実践研修のうち「実践リーダー研修」若しくは「認知症介護実践リーダー研修」又は認知症介護指導者養成研修を修了している者の配置） | AB7: □ | AC7: 該当
C8: 人員基準欠如減算に当たらない | AB8: □ | AC8: 該当
A9: 定員超過利用減算 （70／100を算定） | B9: □ | C9: 事業所の利用定員を上回る利用者を利用させている （ただし、災害等のやむを得ない理由を除く） | AB9: □ | AC9: 該当 | AD9: ・報酬告示 別表５ロ注１ ・予防報酬告示 別表３ロ 注１
A10: 夜勤体制による減算 （97／100を算定） | B10: □ | C10: 共同生活住居ごとに夜勤を行う介護従業者数が１を下回る事態が、 ①２日以上連続して発生した 又は、②月に４日以上発生した | AB10: □ | AC10: 該当 | AD10: ・報酬告示 別表５ロ注１ ・予防報酬告示 別表３ロ 注１
A11: 人員基準欠如減算 （70／100を算定） | B11: □ | C11: 事業所の職員の配置数が人員基準上満たすべき員数を下回っている | AB11: □ | AC11: 該当 | AD11: ・報酬告示 別表５ロ注１ ・予防報酬告示 別表３ロ 注１
A12: 身体拘束廃止未実施減算 （10/100を減算）、 （短期利用 1/100を減算） | B12: □ | C12: 緊急やむを得ない身体的拘束について、その態様及び時間、その際の利用者の心身の状況並びに緊急やむを得ない理由を記録 | AB12: □ | AC12: 未実施 | AD12: ・報酬告示 別表５ロ注２ ・予防報酬告示 別表３ロ 注２ ・留意事項 第二６(２)
C13: 身体的拘束等の適正化のための対策を検討する委員会を３月に１回以上開催するとともに、その結果について介護従業者その他の従業者に周知徹底 | AB13: □ | AC13: 未実施
C14: 身体的拘束等の適正化のための指針を整備 | AB14: □ | AC14: 未整備
C15: 身体的拘束等の適正化のための研修を実施 | AB15: □ | AC15: 未実施
A16: 高齢者虐待防止措置未実施減算 （1/100を減算） | B16: □ | C16: 事業所において次の措置を講じていない | AD16: ・報酬告示 別表５ロ注３ ・予防報酬告示 別表３ロ 注３ ・留意事項 第二６(３) | AE16: R6.11.8「措置」追記
D17: 高齢者虐待防止のための対策を検討する委員会を定期的に開催するとともに、その結果について介護従業者その他の従業者に周知徹底 | AB17: □ | AC17: 未実施
D18: 高齢者虐待防止のための指針を整備 | AB18: □ | AC18: 未整備
D19: 高齢者虐待防止のための年2回以上の研修を実施 | AB19: □ | AC19: 未実施
D20: 高齢者虐待防止措置を適正に実施するための担当者を置く | AB20: □ | AC20: 未実施
A21: 業務継続計画未策定減算 （3/100を減算） | B21: □ | C21: 感染症や非常災害の発生時において、利用者に対するサービスの提供を継続的に実施するための、及び非常時の体制で早期の業務再開を図るための計画（業務継続計画）を策定 | AB21: □ | AC21: 未実施 | AD21: ・報酬告示 別表５ロ注４ ・予防報酬告示 別表３ロ 注４ ・留意事項 第二６(４)
A22: 夜勤体制による減算 ※ ３ユニットの場合の例外的取扱い （50単位を減算） | B22: □ | C22: 共同生活住居の数が３の事業所で、夜勤を行う職員の員数を２以上としている | AB22: □ | AC22: 該当 | AD22: ・報酬告示 別表５ロ注５ ・予防報酬告示 別表３ロ 注５
A23: 夜間支援体制加算（Ⅰ） ※ １ユニットの場合 | B23: □ | C23: 夜勤を行う介護従業者及び宿直勤務に当たる者の合計数が２以上 | AB23: □ | AC23: 該当 | AD23: ・報酬告示別表５ロ注６ ・予防報酬告示 別表３ロ 注６ ・留意事項 第二６（５）
C24: 定員超過利用、人員基準欠如減算に当たらない | AB24: □ | AC24: 該当
A25: 夜間支援体制加算（Ⅱ） ※ ２ユニット以上の場合 | B25: □ | C25: 夜勤を行う介護従業者及び宿直勤務に当たる者の合計数が、事業所を構成する共同生活住居の数に１を加えた数以上 | AB25: □ | AC25: 該当
C26: 定員超過利用、人員基準欠如減算に当たらない | AB26: □ | AC26: 該当
A27: 認知症行動・心理症状緊急対応加算 | B27: □ | C27: 短期利用認知症対応型共同生活介護（介護予防含む。以下同じ）の利用者が対象 ※ 病院又は診療所の入院中の者、介護保険施設又は地域密着型介護老人福祉施設に入院又は入所中の者、認知症対応型共同介護、地域密着型特定施設入居者生活介護、特定施設入居者生活介護、短期入所生活介護、短期入所療養介護及び短期利用共同生活介護、短期利用特定施設入居者生活介護及び地域密着型短期利用特定施設入居者生活介護の利用中の者が、直接、短期利用認知症対応型共同生活介護を利用した場合を除く | AB27: □ | AC27: 該当 | AD27: ・報酬告示 別表５ロ注７ ・予防報酬告示 別表３ロ 注７ ・留意事項 第二６（６）
C28: 医師が緊急に短期利用認知症対応型共同生活介護を利用することが適当と判断した者に提供した場合 | AB28: □ | AC28: 該当
C29: 介護支援専門員及び受入れ事業所が連携し、利用者又は家族の同意を得て短期利用認知症対応型共同生活介護の利用を開始 | AB29: □ | AC29: 該当
C30: 判断を行った医師は症状、判断の内容等を診療録等に、事業所は判断を行った医師名、日付及び利用開始にあたっての留意事項等を介護サービス計画書に記録 | AB30: □ | AC30: 該当
C31: 利用開始日から起算して７日以内を限度として算定 | AB31: □ | AC31: 該当
A32: 若年性認知症利用者受入加算 | B32: □ | C32: 若年性認知症利用者ごとに個別に担当者を定め、その担当者を中心に当該利用者の特性やニーズに応じたサービスの提供 | AB32: □ | AC32: 該当 | AD32: ・報酬告示 別表５ロ注８ ・予防報酬告示 別表３ロ 注８ ・留意事項 第二６（７）
C33: 認知症行動・心理症状緊急対応加算の対象者でない | AB33: □ | AC33: 該当
A34: 初期加算 | B34: □ | C34: 入居日から起算して30日以内（30日を超える病院又は診療所への入院の後に再度入居した場合も同様） | AB34: □ | AC34: 該当 | AD34: ・報酬告示 別表５ハ ・予防報酬告示 別表３ハ ・留意事項 第二６（10）
C35: 過去３月間（ただし、日常生活自立度ランクⅢ、Ⅳ又はＭの場合は過去１月間）の間に、当該事業所に入居したことがない利用者 または、30日を超える病院又は診療所への入院の後に再度入居した利用者 | AB35: □ | AC35: 該当
C36: 短期利用認知症対応型共同生活介護を利用していた者が日を空けることなく引き続き当該（介護予防）認知症対応型共同生活介護を利用する場合、30日から短期利用認知症対応型共同生活介護の日数を控除して算定 | AB36: □ | AC36: 該当
A37: 利用者が入院した時の費用 | B37: □ | C37: あらかじめ入院後３月以内に退院することが明らかに見込まれる | AB37: □ | AC37: 該当 | AD37: ・報酬告示 別表５ロ注９ ・予防報酬告示 別表３ロ 注９ ・留意事項 第二６(８)
C38: 利用者及びその家族の同意の上での入退院の手続きや、その他の個々の状況に応じた便宜を図っている | AB38: □ | AC38: 該当
C39: 入院の期間に初日及び最終日を含まないので、連続して8日間入院を行う場合は6日と計算 | AB39: □ | AC39: 該当
C40: 算定期間中は、当該利用者の居室を空けておく ※ 当該利用者の同意があれば、その居室を短期利用認知症対応型共同生活介護等に活用することは可。ただしこの場合、入院時の費用を算定しない | AB40: □ | AC40: 該当
C41: １月に６日を限度に算定（１回の入院で月をまたがる場合は、最大で12日分まで算定） | AB41: □ | AC41: 該当
...

Sheet ②処遇改善加算
A1: 事前提出資料② 介護職員等処遇改善加算自己点検シート
A3: 点検項目 | B3: 算定有 | C3: 点検事項 | AB3: 点検結果 | AD3: 根拠法令等
A4: 介護職員等処遇改善加算(Ⅰ) | B4: □ | C4: 賃金改善に関する計画の策定、計画に基づく措置 | AB4: □ | AC4: 該当 | AD4: ・報酬告示 別表2の2ホ ・留意事項 第二3の2(28)
C5: 改善計画書の作成、周知、届出 | AB5: □ | AC5: 該当
C6: 介護職員等処遇改善加算（Ⅳ）を算定した場合に見込まれる加算額の1/2以上を基本給等に充てている | AB6: □ | AC6: 該当
C7: 旧ベースアップ加算を算定する場合に見込まれる加算額の2/3以上の基本給等の引き上げを行っている（旧ベア加算なしの事業所） | AB7: □ | AC7: 該当
C8: 介護福祉士であって、経験・技能のある介護職員のうち一人は、改善後賃金が年額440万円以上（ただし、介護職員等処遇改善加算の算定見込額が少額であることその他の理由により、当該賃金改善が困難である場合はこの限りでない） | AB8: □ | AC8: 該当
C9: 賃金改善の実施 | AB9: □ | AC9: 該当
C10: 処遇改善に関する実績の報告 | AB10: □ | AC10: 該当
C11: 前12月間に法令違反し、罰金以上の刑に処されていないこと | AB11: □ | AC11: 該当
C12: 労働保険料を適正に納付 | AB12: □ | AC12: 該当
C13: 介護職員の任用の際における職責又は職務内容等の要件（賃金に関するものを含む。）を定め、書面をもって作成し、全ての職員に周知 | AB13: □ | AC13: 該当
C14: 資質の向上の支援に関する計画の策定。研修の実施又は研修の機会を確保し、全ての介護職員に周知 | AB14: □ | AC14: 該当
C15: 経験、資格等、実技試験や人事評価等の一定の基準に基づき定期に昇給を判定する仕組みを設置し、全ての職員に周知 | AB15: □ | AC15: 該当
C16: 届出に係る計画の期間中に実施する処遇改善（賃金改善を除く）の内容を全ての介護職員に周知 | AB16: □ | AC16: 該当
... C18: サービス提供体制強化加算（Ⅰ）又は（Ⅱ）の届出 (療養通所介護費算定の場合はサービス提供体制強化加算（Ⅲ）イ又はロ） | AB18: □ | AC18: 該当
A19: 介護職員等処遇改善加算（Ⅱ） | B19: □ | C19: 賃金改善に関する計画の策定、計画に基づく措置 | AB19: □ | AC19: 該当
C20: 改善計画書の作成、周知、届出 | AB20: □ | AC20: 該当
C21: 介護職員等処遇改善加算（Ⅳ）を算定した場合に見込まれる加算額の1/2以上を基本給等に充てている | AB21: □ | AC21: 該当
C22: 旧ベースアップ加算を算定する場合に見込まれる加算額の2/3以上の基本給等の引き上げを行っている（旧ベア加算なしの事業所） | AB22: □ | AC22: 該当
C23: 介護福祉士であって、経験・技能のある介護職員のうち一人は、改善後賃金が年額440万円以上（ただし、介護職員等処遇改善加算の算定見込み額が少額であることその他の理由により、当該賃金改善が困難である場合はこの限りでない） | AB23: □ | AC23: 該当
C24: 賃金改善の実施 | AB24: □ | AC24: 該当
C25: 処遇改善に関する実績の報告 | AB25: □ | AC25: 該当
C26: 前12月間に法令違反し、罰金以上の刑に処されていないこと | AB26: □ | AC26: 該当
C27: 労働保険料を適正に納付 | AB27: □ | AC27: 該当
C28: 任用の際における職責又は職務内容等の要件（賃金に関するものを含む。）を定め、書面をもって作成し、全ての職員に周知 | AB28: □ | AC28: 該当
C29: 資質の向上の支援に関する計画の策定。研修の実施又は研修の機会を確保し、全ての介護職員に周知 | AB29: □ | AC29: 該当
C30: 経験、資格等、実技試験や人事評価等の一定の基準に基づき定期に昇給を判定する仕組みを設置し、全ての職員に周知 | AB30: □ | AC30: 該当
C31: 届出に係る計画の期間中に実施する処遇改善（賃金改善を除く）の内容を全ての介護職員に周知 | AB31: □ | AC31: 該当
C32: 実施した職場環境改善の内容等について、インターネット等により公表 | AB32: □ | AC32: 該当
A33: 介護職員等処遇改善加算（Ⅲ） | B33: □ | C33: 賃金改善に関する計画の策定、計画に基づく措置 | AB33: □ | AC33: 該当
C34: 改善計画書の作成、周知、届出 | AB34: □ | AC34: 該当
C35: 介護職員等処遇改善加算（Ⅳ）を算定した場合に見込まれる加算額の1/2以上を基本給等に充てている | AB35: □ | AC35: 該当
C36: 旧ベースアップ加算を算定する場合に見込まれる加算額の2/3以上の基本給等の引き上げを行っている（旧ベア加算なしの事業所） | AB36: □ | AC36: 該当
C37: 賃金改善の実施 | AB37: □ | AC37: 該当
C38: 処遇改善に関する実績の報告 | AB38: □ | AC38: 該当
C39: 前12月間に法令違反し、罰金以上の刑に処されていないこと | AB39: □ | AC39: 該当
C40: 労働保険料を適正に納付 | AB40: □ | AC40: 該当
C41: 任用の際における職責又は職務内容等の要件（賃金に関するものを含む。）を定め、書面をもって作成し、全ての職員に周知 | AB41: □ | AC41: 該当
C42: 資質の向上の支援に関する計画の策定。研修の実施又は研修の機会を確保し、全ての介護職員に周知 | AB42: □ | AC42: 該当
...

Sheet ④附票１
A1: 事前提出資料④ 附票１ 入居者状況（ユニット別） | AP1: 事業者名 | BR1: ユニット名
A3: 注１ 直近１年分について記入。
A4: 注２ 枠内に利用者名を記入。また、入退居日を（ ）書きで併記してください。
A5: 注３ 同一月内に利用者の入退居があった場合は、氏名を２段書き等により記入し、退居月日及び入居月日を（ ）書きで併記してください。
A6: 注４ 短期利用者がいる場合は、当該利用者についても記載してください（氏名の後に「（短期）」等の記載をしてください。）。
A8: 入院･外泊のあった利用者数（実数） | AF8: 人 | AH8: 当該利用者氏名
A9: 居室名等 | B9: 令和 | H9: 年 | J9: 令和 | P9: 年 | R9: 令和 | X9: 年 | Z9: 令和 | AF9: 年 | AH9: 令和 | AN9: 年 | AP9: 令和 | AV9: 年 | AX9: 令和 | BD9: 年 | BF9: 令和 | BL9: 年 | BN9: 令和 | BT9: 年 | BV9: 令和 | CB9: 年 | CD9: 令和 | CJ9: 年 | CL9: 令和 | CR9: 年
A10: （床面積：㎡） | F10: 月 | N10: 月 | V10: 月 | AD10: 月 | AL10: 月 | AT10: 月 | BB10: 月 | BJ10: 月 | BR10: 月 | BZ10: 月 | CH10: 月 | CP10: 月
A12: ㎡
A14: ㎡
A16: ㎡
A18: ㎡
A20: ㎡
A22: ㎡
A24: ㎡
A26: ㎡
A28: ㎡

Sheet ⑤附票２
A1: 事前提出資料⑤ 附票２ 報酬請求状況（ユニット別） | J1: 事業者名 | K1: =IF('④附票１'!$AX$1="","",'④附票１'!$AX$1) | N1: ユニット名 | O1: =IF('④附票１'!$CB$1="","",'④附票１'!$CB$1)
A3: 注１ 月ごとに別葉とし、直近３か月（書類提出月を含まない）分を作成してください。
A4: 注２ 居室番号を付した建物の平面図を添付してください。
A5: 注３ 短期利用者がいる場合は、当該利用者についても記載してください（氏名の後に「（短期）」等の記載をしてください。）。
A7: 居室名等 | B7: サービス提供月 | D7: 令和 | F7: 年 | H7: 月
B8: 利用者氏名 | C8: 保険者名 | D8: 要介護度 | E8: 認知症 日常生活自立度 ※ 該当の場合 | F8: 報酬請求日数 | G8: 介護報酬額 （①+②） | J8: 本人からの領収額（単位：円）
C9: （市町村） | I9: ①国保連からの受領額（9,8又は7割） | J9: ②介護報酬自己負担額 （1,2又は3割） | K9: その他の費用（徴収している費目全てを記入すること。） | P9: 本人からの領収 合計額 （②+③）
A10: （附票１と一致） | B10: （入居期間） | C10: 被保険者 番号 | K10: ア | L10: イ | M10: ウ | N10: エ | O10: ③その他の 費用小計 （ア～エ）
G11: 単位：円 | I11: 単位：円
A12: =IFERROR('④附票１'!A11,0) -> 0 | G12: =I12+J12 -> 0 | O12: =K12+L12+M12+N12 -> 0 | P12: =O12+J12 -> 0
A14: =IFERROR('④附票１'!A13,0) -> 0 | G14: =I14+J14 -> 0 | O14: =K14+L14+M14+N14 -> 0 | P14: =O14+J14 -> 0
A16: =IFERROR('④附票１'!A15,0) -> 0 | G16: =I16+J16 -> 0 | O16: =K16+L16+M16+N16 -> 0 | P16: =O16+J16 -> 0
A18: =IFERROR('④附票１'!A17,0) -> 0 | G18: =I18+J18 -> 0 | O18: =K18+L18+M18+N18 -> 0 | P18: =O18+J18 -> 0
A20: =IFERROR('④附票１'!A19,0) -> 0 | G20: =I20+J20 -> 0 | O20: =K20+L20+M20+N20 -> 0 | P20: =O20+J20 -> 0
A22: =IFERROR('④附票１'!A21,0) -> 0 | G22: =I22+J22 -> 0 | O22: =K22+L22+M22+N22 -> 0 | P22: =O22+J22 -> 0
A24: =IFERROR('④附票１'!A23,0) -> 0 | G24: =I24+J24 -> 0 | O24: =K24+L24+M24+N24 -> 0 | P24: =O24+J24 -> 0
A26: =IFERROR('④附票１'!A25,0) -> 0 | G26: =I26+J26 -> 0 | O26: =K26+L26+M26+N26 -> 0 | P26: =O26+J26 -> 0
A28: =IFERROR('④附票１'!A27,0) -> 0 | G28: =I28+J28 -> 0 | O28: =K28+L28+M28+N28 -> 0 | P28: =O28+J28 -> 0
